BEGIN:VCALENDAR
VERSION:2.0
PRODID:-//wp-events-plugin.com//7.2.3.1//EN
BEGIN:VEVENT
UID:33@nano-giants.net
DTSTART;VALUE=DATE:20251004
DTEND;VALUE=DATE:20251005
DTSTAMP:20251001T122649Z
URL:https://nano-giants.net/events/fll-jumpstart-voeheringen-2025/
SUMMARY:FLL Jumpstart - Coach-Workshop vor allem für Neueinsteiger (Vöhri
 ngen 2025)
DESCRIPTION:Inhalte\nDer "FLL Jumpstart Workshop" richtet sich an Coaches\,
  die noch keine oder wenig Erfahrungen mit der FIRST LEGO League Challenge
  haben.\n\nDie genauen Inhalte sind auf der Workshop-Seite beschrieben.\n\
 n 	Der Workshop richtet sich an Coaches FIRST LEGO League (FLL) Challenge.
  Für FLL Explore ist er nicht zu empfehlen.\n 	In diesem Workshop wird di
 e Hardware LEGO Education SPIKE Prime mit der zgh. Software SPIKE benutzt.
 \n 	Teilnehmer sollten für die Programmierung ein Notebook oder Tablet mi
 tbringen.\n\nTeilnahmegebühr und Buchung.\nFür die Bestätigung der Buch
 ung\, bitte die Teilnahmegebühr pro Teilnehmer (siehe unten) entweder per
  Banküberweisung oder PayPal an uns zu schicken. Details dazu folgen nach
  der Buchung per Email.\n\nAchtung: Bezahlte Teilnahmegebühren werden von
  uns\, außer bei Absage des Workshops\, nicht erstattet.\n\nWICHTIG: Nach
  der Buchung kommen Mails von academy@nano-giants.net. Bitte sicherstellen
 \, dass die nicht für SPAM gehalten werden und jeweils zeitnah antworten.
  Danke!\n\nDie FLL Jumpstart Workshops sind eine Initiative\, die wir in K
 ooperation mit HANDS on TECHNOLOGY e.V. seit 2019 für Deutschland\, Öste
 rreich und die Schweiz anbieten.
ATTACH;FMTTYPE=image/jpeg:https://nano-giants.net/wp-content/uploads/2025/
 09/Roetenmuehle-scaled.webp
LOCATION:Rötenmühle in Vöhringen\, Rötenmühleweg 2\, 72189 Vöhringen\
 , Rötenmühle\, 72189\, Deutschland
GEO:48.337903;8.673164
X-APPLE-STRUCTURED-LOCATION;VALUE=URI;X-ADDRESS=Rötenmühleweg 2\, 72189 V
 öhringen\, Rötenmühle\, 72189\, Deutschland;X-APPLE-RADIUS=100;X-TITLE=
 Rötenmühle in Vöhringen:geo:48.337903,8.673164
END:VEVENT
END:VCALENDAR